BEGIN:VCALENDAR
VERSION:2.0
PRODID:-//Mark Damian - ECPv6.15.15//NONSGML v1.0//EN
CALSCALE:GREGORIAN
METHOD:PUBLISH
X-WR-CALNAME:Mark Damian
X-ORIGINAL-URL:https://markdamian.com
X-WR-CALDESC:Events for Mark Damian
REFRESH-INTERVAL;VALUE=DURATION:PT1H
X-Robots-Tag:noindex
X-PUBLISHED-TTL:PT1H
BEGIN:VTIMEZONE
TZID:America/Detroit
BEGIN:DAYLIGHT
TZOFFSETFROM:-0500
TZOFFSETTO:-0400
TZNAME:EDT
DTSTART:20250309T070000
END:DAYLIGHT
BEGIN:STANDARD
TZOFFSETFROM:-0400
TZOFFSETTO:-0500
TZNAME:EST
DTSTART:20251102T060000
END:STANDARD
BEGIN:DAYLIGHT
TZOFFSETFROM:-0500
TZOFFSETTO:-0400
TZNAME:EDT
DTSTART:20260308T070000
END:DAYLIGHT
BEGIN:STANDARD
TZOFFSETFROM:-0400
TZOFFSETTO:-0500
TZNAME:EST
DTSTART:20261101T060000
END:STANDARD
BEGIN:DAYLIGHT
TZOFFSETFROM:-0500
TZOFFSETTO:-0400
TZNAME:EDT
DTSTART:20270314T070000
END:DAYLIGHT
BEGIN:STANDARD
TZOFFSETFROM:-0400
TZOFFSETTO:-0500
TZNAME:EST
DTSTART:20271107T060000
END:STANDARD
END:VTIMEZONE
BEGIN:VEVENT
DTSTART;VALUE=DATE:20260324
DTEND;VALUE=DATE:20260329
DTSTAMP:20260421T071112
CREATED:20260130T043931Z
LAST-MODIFIED:20260130T052118Z
UID:4824-1774310400-1774742399@markdamian.com
SUMMARY:Rock & Romance Cruise 2026
DESCRIPTION:Performance with Jeff “Skunk” Baxter
URL:https://markdamian.com/event/rock-romance-cruise-2026/
LOCATION:Rock and Romance Cruise
ATTACH;FMTTYPE=image/jpeg:https://markdamian.com/wp-content/uploads/2025/12/IMG_0504.jpg
END:VEVENT
END:VCALENDAR